BEGIN:VCALENDAR
VERSION:2.0
PRODID:-//Highnam Parish Council//Meeting Calendar//EN
CALSCALE:GREGORIAN
METHOD:PUBLISH
BEGIN:VEVENT
UID:71399-20260217@highnamparishcouncil.gov.uk
DTSTAMP:20260422T154343Z
DTSTART;VALUE=DATE:20260217
DTEND;VALUE=DATE:20260218
SUMMARY:HPC Full Council
DESCRIPTION:Full Council Meeting\nView details: https://highnamparishcouncil.gov.uk/meetings/meeting-name-here-2/
URL:https://highnamparishcouncil.gov.uk/meetings/meeting-name-here-2/
END:VEVENT
END:VCALENDAR
