BEGIN:VCALENDAR
VERSION:2.0
PRODID:-//Highnam Parish Council//Meeting Calendar//EN
CALSCALE:GREGORIAN
METHOD:PUBLISH
BEGIN:VEVENT
UID:71388-20260120@highnamparishcouncil.gov.uk
DTSTAMP:20260422T172807Z
DTSTART;VALUE=DATE:20260120
DTEND;VALUE=DATE:20260121
SUMMARY:Parish Council Meeting
DESCRIPTION:Full Council Meeting\nView details: https://highnamparishcouncil.gov.uk/meetings/parish-council-meeting-3/
URL:https://highnamparishcouncil.gov.uk/meetings/parish-council-meeting-3/
END:VEVENT
END:VCALENDAR
