BEGIN:VCALENDAR
VERSION:2.0
PRODID:-//Highnam Parish Council//Meeting Calendar//EN
CALSCALE:GREGORIAN
METHOD:PUBLISH
BEGIN:VEVENT
UID:71319-20251104@highnamparishcouncil.gov.uk
DTSTAMP:20260422T173225Z
DTSTART;VALUE=DATE:20251104
DTEND;VALUE=DATE:20251105
SUMMARY:Finance\\, Audit\\, Governance &#038\\; Staffing Committee
DESCRIPTION:Finance, Audit &amp; Governance Meeting\nView details: https://highnamparishcouncil.gov.uk/meetings/finance-audit-governance-staffing-committee-2/
URL:https://highnamparishcouncil.gov.uk/meetings/finance-audit-governance-staffing-committee-2/
END:VEVENT
END:VCALENDAR
