BEGIN:VCALENDAR
VERSION:2.0
PRODID:-//Highnam Parish Council//Meeting Calendar//EN
CALSCALE:GREGORIAN
METHOD:PUBLISH
BEGIN:VEVENT
UID:71141-20250708@highnamparishcouncil.gov.uk
DTSTAMP:20260422T173205Z
DTSTART;VALUE=DATE:20250708
DTEND;VALUE=DATE:20250709
SUMMARY:Finance\\, Audit\\, Governance &#038\\; Staffing Committee
DESCRIPTION:Finance, Audit &amp; Governance Meeting\nView details: https://highnamparishcouncil.gov.uk/meetings/meeting-name-here/
URL:https://highnamparishcouncil.gov.uk/meetings/meeting-name-here/
END:VEVENT
END:VCALENDAR
