BEGIN:VCALENDAR
VERSION:2.0
PRODID:-//Highnam Parish Council//Meeting Calendar//EN
CALSCALE:GREGORIAN
METHOD:PUBLISH
BEGIN:VEVENT
UID:71115-20250916@highnamparishcouncil.gov.uk
DTSTAMP:20260422T191236Z
DTSTART;VALUE=DATE:20250916
DTEND;VALUE=DATE:20250917
SUMMARY:Full Council Meeting 16th September 2025
DESCRIPTION:Full Council Meeting\nView details: https://highnamparishcouncil.gov.uk/meetings/full-council-meeting-4/
URL:https://highnamparishcouncil.gov.uk/meetings/full-council-meeting-4/
END:VEVENT
END:VCALENDAR
