BEGIN:VCALENDAR
VERSION:2.0
PRODID:-//Highnam Parish Council//Meeting Calendar//EN
CALSCALE:GREGORIAN
METHOD:PUBLISH
BEGIN:VEVENT
UID:70634-20220101@highnamparishcouncil.gov.uk
DTSTAMP:20260422T190737Z
DTSTART;VALUE=DATE:20220101
DTEND;VALUE=DATE:20220102
SUMMARY:Finance\\, Audit and Governance Committee Meetings &#8211\\; 2022
DESCRIPTION:Finance, Audit &amp; Governance Meeting\nView details: https://highnamparishcouncil.gov.uk/meetings/finance-audit-and-governance-committee-meetings-2022/
URL:https://highnamparishcouncil.gov.uk/meetings/finance-audit-and-governance-committee-meetings-2022/
END:VEVENT
END:VCALENDAR
