BEGIN:VCALENDAR
VERSION:2.0
PRODID:-//Highnam Parish Council//Meeting Calendar//EN
CALSCALE:GREGORIAN
METHOD:PUBLISH
BEGIN:VEVENT
UID:70625-20230101@highnamparishcouncil.gov.uk
DTSTAMP:20260422T191306Z
DTSTART;VALUE=DATE:20230101
DTEND;VALUE=DATE:20230102
SUMMARY:Finance\\, Audit &#038\\; Governance Committee Meetings &#8211\\; 2023
DESCRIPTION:Finance, Audit &amp; Governance Meeting\nView details: https://highnamparishcouncil.gov.uk/meetings/finance-audit-governance-committee-meetings-2023/
URL:https://highnamparishcouncil.gov.uk/meetings/finance-audit-governance-committee-meetings-2023/
END:VEVENT
END:VCALENDAR
