BEGIN:VCALENDAR
VERSION:2.0
PRODID:-//Highnam Parish Council//Meeting Calendar//EN
CALSCALE:GREGORIAN
METHOD:PUBLISH
BEGIN:VEVENT
UID:70577-20210504@highnamparishcouncil.gov.uk
DTSTAMP:20260422T190644Z
DTSTART;VALUE=DATE:20210504
DTEND;VALUE=DATE:20210505
SUMMARY:Annual Parish Meeting &#8211\\; 4 May 2021
DESCRIPTION:Annual Parish Meeting\nView details: https://highnamparishcouncil.gov.uk/meetings/annual-parish-meeting-4-may-2021/
URL:https://highnamparishcouncil.gov.uk/meetings/annual-parish-meeting-4-may-2021/
END:VEVENT
END:VCALENDAR
