BEGIN:VCALENDAR
VERSION:2.0
PRODID:-//Highnam Parish Council//Meeting Calendar//EN
CALSCALE:GREGORIAN
METHOD:PUBLISH
BEGIN:VEVENT
UID:70552-20220519@highnamparishcouncil.gov.uk
DTSTAMP:20260422T171627Z
DTSTART;VALUE=DATE:20220519
DTEND;VALUE=DATE:20220520
SUMMARY:Annual Residents Meeting &#8211\\; 19 May 2022
DESCRIPTION:Annual Residents Meeting\nView details: https://highnamparishcouncil.gov.uk/meetings/annual-residents-meeting-19-may-2022/
URL:https://highnamparishcouncil.gov.uk/meetings/annual-residents-meeting-19-may-2022/
END:VEVENT
END:VCALENDAR
