BEGIN:VCALENDAR
VERSION:2.0
PRODID:-//Highnam Parish Council//Meeting Calendar//EN
CALSCALE:GREGORIAN
METHOD:PUBLISH
BEGIN:VEVENT
UID:70534-20230518@highnamparishcouncil.gov.uk
DTSTAMP:20260422T171332Z
DTSTART;VALUE=DATE:20230518
DTEND;VALUE=DATE:20230519
SUMMARY:Annual Residents Meeting &#8211\\; 18 May 2023
DESCRIPTION:Annual Residents Meeting\nView details: https://highnamparishcouncil.gov.uk/meetings/annual-residents-meeting-18-may-2023/
URL:https://highnamparishcouncil.gov.uk/meetings/annual-residents-meeting-18-may-2023/
END:VEVENT
END:VCALENDAR
