BEGIN:VCALENDAR
VERSION:2.0
PRODID:-//Highnam Parish Council//Meeting Calendar//EN
CALSCALE:GREGORIAN
METHOD:PUBLISH
BEGIN:VEVENT
UID:70494-20240518@highnamparishcouncil.gov.uk
DTSTAMP:20260422T170459Z
DTSTART;VALUE=DATE:20240518
DTEND;VALUE=DATE:20240519
SUMMARY:Annual Residents Meeting &#8211\\; 18 May 2024
DESCRIPTION:Annual Residents Meeting\nView details: https://highnamparishcouncil.gov.uk/meetings/annual-residents-meeting-18-may-2024/
URL:https://highnamparishcouncil.gov.uk/meetings/annual-residents-meeting-18-may-2024/
END:VEVENT
END:VCALENDAR
